BEGIN:VCALENDAR
VERSION:2.0
PRODID:Events Booking
BEGIN:VEVENT
UID:69ed3918c0351
SUMMARY:Online Zoom Dance with Nicola\, 12 years and over 
DESCRIPTION:
DTSTART:20200821T090000Z
DTEND:20200821T100000Z
DTSTAMP:20260425T225848Z
ORGANIZER;CN=ILEAP Charity:MAILTO:sparkle@ileap.co.uk
END:VEVENT
END:VCALENDAR