BEGIN:VCALENDAR
VERSION:2.0
PRODID:Events Booking
BEGIN:VEVENT
UID:69ed151c15f73
SUMMARY:Online Zoom Dance with Nicola\, 12 years and over 
DESCRIPTION:
DTSTART:20200731T090000Z
DTEND:20200731T100000Z
DTSTAMP:20260425T202516Z
ORGANIZER;CN=ILEAP Charity:MAILTO:sparkle@ileap.co.uk
END:VEVENT
END:VCALENDAR