BEGIN:VCALENDAR
VERSION:2.0
PRODID:Events Booking
BEGIN:VEVENT
UID:69ed4bdaadc1a
SUMMARY:Online Zoom Dance with Nicola\, 12 years and over 
DESCRIPTION:
DTSTART:20200904T090000Z
DTEND:20200904T100000Z
DTSTAMP:20260426T001850Z
ORGANIZER;CN=ILEAP Charity:MAILTO:sparkle@ileap.co.uk
END:VEVENT
END:VCALENDAR