BEGIN:VCALENDAR
VERSION:2.0
PRODID:Events Booking
BEGIN:VEVENT
UID:69ed277101961
SUMMARY:Online Zoom Dance with Nicola\, 12 years and over 
DESCRIPTION:
DTSTART:20200807T090000Z
DTEND:20200807T100000Z
DTSTAMP:20260425T214329Z
ORGANIZER;CN=ILEAP Charity:MAILTO:sparkle@ileap.co.uk
END:VEVENT
END:VCALENDAR