BEGIN:VCALENDAR
VERSION:2.0
PRODID:Events Booking
BEGIN:VEVENT
UID:69e8b258742b4
SUMMARY:ILEAP Pamper Club<br>12+ yrs
DESCRIPTION:HAIR / MAKEUP / FASHION / BEAUTY&nbsp\;/ NAILS / FOOT SPA
LOCATION:Church St\, Stratford-upon-Avon CV37 6BE
DTSTART:20180915T110000Z
DTEND:20180915T140000Z
DTSTAMP:20260422T123448Z
ORGANIZER;CN=ILEAP Charity:MAILTO:sparkle@ileap.co.uk
GEO:52.190487;-1.706817
X-APPLE-STRUCTURED-LOCATION;VALUE=URI;X-ADDRESS=Church St\, Stratford-upon-
 Avon CV37 6BE;X-APPLE-RADIUS=72;X-TITLE=King Edward School:52.190487;-1.70
 6817
END:VEVENT
END:VCALENDAR