BEGIN:VCALENDAR
VERSION:2.0
PRODID:Events Booking
BEGIN:VEVENT
UID:69e7342bce743
SUMMARY:Phonic Hub\, Music and Movement<br>12+ yrs
DESCRIPTION:Bring £ for the community café
LOCATION:Westlea Road\, Leamington Spa CV31 3JE
DTSTART:20180727T093000Z
DTEND:20180727T113000Z
DTSTAMP:20260421T092411Z
ORGANIZER;CN=ILEAP Charity:MAILTO:sparkle@ileap.co.uk
GEO:52.282198;-1.543695
X-APPLE-STRUCTURED-LOCATION;VALUE=URI;X-ADDRESS=Westlea Road\, Leamington S
 pa CV31 3JE;X-APPLE-RADIUS=72;X-TITLE=Jubilee House:52.282198;-1.543695
END:VEVENT
END:VCALENDAR