BEGIN:VCALENDAR
VERSION:2.0
PRODID:Events Booking
BEGIN:VEVENT
UID:69e8ede13a05b
SUMMARY:Riverboat Christmas Party Cruise<br>8 years and over
DESCRIPTION:
LOCATION:Bridge Foot\, Stratford-upon-Avon\, CV37 6YR
DTSTART:20181227T153000Z
DTEND:20181227T173000Z
DTSTAMP:20260422T164849Z
ORGANIZER;CN=ILEAP Charity:MAILTO:sparkle@ileap.co.uk
GEO:52.19364;-1.700649
X-APPLE-STRUCTURED-LOCATION;VALUE=URI;X-ADDRESS=Bridge Foot\, Stratford-upo
 n-Avon\, CV37 6YR;X-APPLE-RADIUS=72;X-TITLE=Crowne Plaza:52.19364;-1.70064
 9
END:VEVENT
END:VCALENDAR