BEGIN:VCALENDAR
VERSION:2.0
PRODID:Events Booking
BEGIN:VEVENT
UID:69e9d894ce6c4
SUMMARY:Salty 2 Canal Trip (back)<br>8+ yrs
DESCRIPTION:Sing some sea Shanty’s as we sail on through Warwickshire’s
  Canals
LOCATION:Offchurch Ln\, Leamington Spa CV31 1TN
DTSTART:20180731T130000Z
DTEND:20180731T161500Z
DTSTAMP:20260423T093012Z
ORGANIZER;CN=ILEAP Charity:MAILTO:sparkle@ileap.co.uk
GEO:52.279241;-1.493864
X-APPLE-STRUCTURED-LOCATION;VALUE=URI;X-ADDRESS=Offchurch Ln\, Leamington S
 pa CV31 1TN;X-APPLE-RADIUS=72;X-TITLE=Radford Bottom Lock :52.279241;-1.49
 3864
END:VEVENT
END:VCALENDAR