BEGIN:VCALENDAR
VERSION:2.0
PRODID:Events Booking
BEGIN:VEVENT
UID:69e72f8644b43
SUMMARY:Salty 2 Canal Trip (both ways)<br>8+ yrs
DESCRIPTION:Sing some sea Shanty’s as we sail on through Warwickshire’s
  Canals
LOCATION:Birmingham Rd\, Warwick CV34 5RJ
DTSTART:20180731T093000Z
DTEND:20180731T161500Z
DTSTAMP:20260421T090422Z
ORGANIZER;CN=ILEAP Charity:MAILTO:sparkle@ileap.co.uk
GEO:52.287906;-1.601416
X-APPLE-STRUCTURED-LOCATION;VALUE=URI;X-ADDRESS=Birmingham Rd\, Warwick CV3
 4 5RJ;X-APPLE-RADIUS=72;X-TITLE=The Saltisford Canal Trust :52.287906;-1.6
 01416
END:VEVENT
END:VCALENDAR