BEGIN:VCALENDAR
VERSION:2.0
PRODID:Events Booking
BEGIN:VEVENT
UID:69e73487c5886
SUMMARY:Saturday Cinema Club<br>8+ yrs
DESCRIPTION:ILEAP Big Chill Cinema Club with Abbey Cinema
 Enjoy a Movie M
 atinée with your Mates
LOCATION:Abbey End Car Park\, Abbey End\, Kenilworth CV8 1JP
DTSTART:20180721T140000Z
DTEND:20180721T153000Z
DTSTAMP:20260421T092543Z
ORGANIZER;CN=ILEAP Charity:MAILTO:sparkle@ileap.co.uk
GEO:52.344216;-1.578651
X-APPLE-STRUCTURED-LOCATION;VALUE=URI;X-ADDRESS=Abbey End Car Park\, Abbey 
 End\, Kenilworth CV8 1JP;X-APPLE-RADIUS=72;X-TITLE=The Kenilworth Centre:5
 2.344216;-1.578651
END:VEVENT
END:VCALENDAR