BEGIN:VCALENDAR
VERSION:2.0
PRODID:Events Booking
BEGIN:VEVENT
UID:69e9dc1122a49
SUMMARY:Spot Drama Workshop<br>Theme: The Lion King and the circle of Life<
 br>12+ yrs
DESCRIPTION:Bring a packed lunch or why not get lunch from the lovely café
  at Playbox
 
 Group £50.00 per day
 1:1 £108.00 per day
 
 Include
 s specialist staff
LOCATION:71 Coten End\, Warwick CV34 4NU\, UK
DTSTART:20180815T090000Z
DTEND:20180815T150000Z
DTSTAMP:20260423T094505Z
ORGANIZER;CN=ILEAP Charity:MAILTO:sparkle@ileap.co.uk
GEO:52.285147;-1.576784
X-APPLE-STRUCTURED-LOCATION;VALUE=URI;X-ADDRESS=71 Coten End\, Warwick CV34
  4NU\, UK;X-APPLE-RADIUS=72;X-TITLE=Warwickspace:52.285147;-1.576784
END:VEVENT
END:VCALENDAR