BEGIN:VCALENDAR
VERSION:2.0
PRODID:Events Booking
BEGIN:VEVENT
UID:69ed144d157e8
SUMMARY:Step by Step Crafts with Louise: Cactus Painted Stones: A Prickly A
 ffair: All Ages
DESCRIPTION:
DTSTART:20200724T120000Z
DTEND:20200724T133000Z
DTSTAMP:20260425T202149Z
ORGANIZER;CN=ILEAP Charity:MAILTO:sparkle@ileap.co.uk
END:VEVENT
END:VCALENDAR