BEGIN:VCALENDAR
VERSION:2.0
PRODID:Events Booking
BEGIN:VEVENT
UID:69ed144f8cbbc
SUMMARY:Step by Step Crafts with Louise: Cool Ice Cream Craft: All Ages
DESCRIPTION:
DTSTART:20200731T120000Z
DTEND:20200731T133000Z
DTSTAMP:20260425T202151Z
ORGANIZER;CN=ILEAP Charity:MAILTO:sparkle@ileap.co.uk
END:VEVENT
END:VCALENDAR