BEGIN:VCALENDAR
VERSION:2.0
PRODID:Events Booking
BEGIN:VEVENT
UID:69ed3bac4001a
SUMMARY:Step by Step Crafts with Louise: Ladybird Pebble Craft: The Perfect
  Paper Weight: All Ages
DESCRIPTION:
DTSTART:20200828T120000Z
DTEND:20200828T133000Z
DTSTAMP:20260425T230948Z
ORGANIZER;CN=ILEAP Charity:MAILTO:sparkle@ileap.co.uk
END:VEVENT
END:VCALENDAR