BEGIN:VCALENDAR
VERSION:2.0
PRODID:Events Booking
BEGIN:VEVENT
UID:69ed270850cd3
SUMMARY:Step by Step Crafts with Louise: Lollypop Bookmark: All Ages
DESCRIPTION:
DTSTART:20200814T120000Z
DTEND:20200814T133000Z
DTSTAMP:20260425T214144Z
ORGANIZER;CN=ILEAP Charity:MAILTO:sparkle@ileap.co.uk
END:VEVENT
END:VCALENDAR