BEGIN:VCALENDAR
VERSION:2.0
PRODID:Events Booking
BEGIN:VEVENT
UID:69e911fd2c0b0
SUMMARY:Stratford After Swim Art & Movie\, 12 years and over
DESCRIPTION:Chill Session
 Make items for the&nbsp\;ILEAP Market Stall
LOCATION:Tyler St\, Stratford-upon-Avon CV37 6TY\, UK
DTSTART:20190221T133000Z
DTEND:20190221T153000Z
DTSTAMP:20260422T192253Z
ORGANIZER;CN=ILEAP Charity:MAILTO:sparkle@ileap.co.uk
GEO:52.194439;-1.706573
X-APPLE-STRUCTURED-LOCATION;VALUE=URI;X-ADDRESS=Tyler St\, Stratford-upon-A
 von CV37 6TY\, UK;X-APPLE-RADIUS=72;X-TITLE=Tyler House:52.194439;-1.70657
 3
END:VEVENT
END:VCALENDAR