BEGIN:VCALENDAR
VERSION:2.0
PRODID:Events Booking
BEGIN:VEVENT
UID:69e9c39f63ba9
SUMMARY:Stratford After Swim Art & Movie   
DESCRIPTION:Relax the afternoon away\, after your morning swim with a chill
 ed out ILEAP session.
 Enjoy an art activity and a movie in this lovely v
 enue.
LOCATION:Tyler St\, Stratford-upon-Avon CV37 6TY\, UK
DTSTART:20191031T133000Z
DTEND:20191031T150000Z
DTSTAMP:20260423T080047Z
ORGANIZER;CN=ILEAP Charity:MAILTO:sparkle@ileap.co.uk
GEO:52.194439;-1.706573
X-APPLE-STRUCTURED-LOCATION;VALUE=URI;X-ADDRESS=Tyler St\, Stratford-upon-A
 von CV37 6TY\, UK;X-APPLE-RADIUS=72;X-TITLE=Tyler House:52.194439;-1.70657
 3
END:VEVENT
END:VCALENDAR