BEGIN:VCALENDAR
VERSION:2.0
PRODID:Events Booking
BEGIN:VEVENT
UID:69e994cb5d907
SUMMARY:Stratford After Swim Art & Movie for 12 years and over 
DESCRIPTION:
LOCATION:Tyler St\, Stratford-upon-Avon CV37 6TY\, UK
DTSTART:20190822T123000Z
DTEND:20190822T140000Z
DTSTAMP:20260423T044059Z
ORGANIZER;CN=ILEAP Charity:MAILTO:sparkle@ileap.co.uk
GEO:52.194439;-1.706573
X-APPLE-STRUCTURED-LOCATION;VALUE=URI;X-ADDRESS=Tyler St\, Stratford-upon-A
 von CV37 6TY\, UK;X-APPLE-RADIUS=72;X-TITLE=Tyler House:52.194439;-1.70657
 3
END:VEVENT
END:VCALENDAR