BEGIN:VCALENDAR
VERSION:2.0
PRODID:Events Booking
BEGIN:VEVENT
UID:69e72ff91ab64
SUMMARY:Stratford Swim and Café Visit<br>12+ yrs
DESCRIPTION:A refreshing swim followed by&nbsp\;a Jacket potato in the Cafe
LOCATION:Bridge Foot\, Stratford-upon-Avon CV37 6yx\, UK
DTSTART:20180809T100000Z
DTEND:20180809T121500Z
DTSTAMP:20260421T090617Z
ORGANIZER;CN=ILEAP Charity:MAILTO:sparkle@ileap.co.uk
GEO:52.194668;-1.700264
X-APPLE-STRUCTURED-LOCATION;VALUE=URI;X-ADDRESS=Bridge Foot\, Stratford-upo
 n-Avon CV37 6yx\, UK;X-APPLE-RADIUS=72;X-TITLE=Stratford Leisure Centre:52
 .194668;-1.700264
END:VEVENT
END:VCALENDAR