BEGIN:VCALENDAR
VERSION:2.0
PRODID:Events Booking
BEGIN:VEVENT
UID:69e9811f95cd9
SUMMARY:Spot Drama Workshop<br>Summer Drama Workshop<br>12+ yrs 
DESCRIPTION:2 days Drama Project!
 A summer drama workshop delivered by Ly
 dia from SpOt Drama
 Bring a packed lunch and £ for the tuck shop.
LOCATION:Abbey End Car Park\, Abbey End\, Kenilworth CV8 1JP
DTSTART:20190814T090000Z
DTEND:20190814T150000Z
DTSTAMP:20260423T031703Z
ORGANIZER;CN=ILEAP Charity:MAILTO:sparkle@ileap.co.uk
GEO:52.344216;-1.578651
X-APPLE-STRUCTURED-LOCATION;VALUE=URI;X-ADDRESS=Abbey End Car Park\, Abbey 
 End\, Kenilworth CV8 1JP;X-APPLE-RADIUS=72;X-TITLE=The Kenilworth Centre:5
 2.344216;-1.578651
END:VEVENT
END:VCALENDAR