BEGIN:VCALENDAR
VERSION:2.0
PRODID:Events Booking
BEGIN:VEVENT
UID:69e9dbb83302d
SUMMARY:*Sunday Funday\; Butterfly Farm\, Magic Alley and McDonalds\, Sprin
 g Term 2026: Ages 12+
DESCRIPTION:Sunday Fundays are now EVERY MONTH.
 Join Charlie and Vanessa 
 for double the fun.
 We will be taking small groups out to locations arou
 nd the UK\, visiting attractions\, making memories and trying new things.
 
 This is for ages 12+. &nbsp\;Each month we will visit somewhere differen
 t. &nbsp\;Please bring a nut free packed lunch\, a refillable water bottle
  and please dress for the weather.
 &nbsp\;
 Meet the Sunday Funday Crew
  at the entrance to Stratford's Butterfly Farm at 10am. &nbsp\;Here we wil
 l be greeted by Butterfly Farm staff and given a brief introduction about 
 how the Myan culture has helped to shape Britian's largest buttefly farm.
 
 We will then tour the venue before experiencing a private mini-beast han
 deling and having a talk on the camien and new snakes.
 The group will he
 ad to McDonalds where they will enjoy a meal included in the price of the 
 activity.
 With full bellies we will head to Magic Alley where we will wo
 rk in small groups to crack the detective case of Jack Frost and the Etern
 al Winter. &nbsp\;The group will also have time to play in the snow room\,
  possibly have a snowball fight?
LOCATION:Stratford-upon-Avon CV37 7LS\, UK
DTSTART:20260104T100000Z
DTEND:20260104T160000Z
DTSTAMP:20250916T082950Z
ORGANIZER;CN=ILEAP Charity:MAILTO:sparkle@ileap.co.uk
GEO:52.189869;-1.699996
X-APPLE-STRUCTURED-LOCATION;VALUE=URI;X-ADDRESS=Stratford-upon-Avon CV37 7L
 S\, UK;X-APPLE-RADIUS=72;X-TITLE=Butterfly Farm:52.189869;-1.699996
END:VEVENT
END:VCALENDAR