BEGIN:VCALENDAR
VERSION:2.0
PRODID:Events Booking
BEGIN:VEVENT
UID:69ecf0c762a8e
SUMMARY:Sunday Funday\; ILEAP Daytrip to Birmingham Think Tank for ages 12 
 years and over
DESCRIPTION:Sunday Daytrips are Back!
 All aboard the ILEAP express for a 
 good old-fashioned day out with friends!
 A short walk from Birmingham St
 ation takes us to the brilliant Think Tank Museum. &nbsp\;Join Charlie and
  Vanessa and discover the indoor and outdoor activities at Think Tank Muse
 um Birmingham as well as the excellent planetarium show.
 
 We will meet
  at Stratford Parkway at 10.15am for the 10.30am departure.
 We will arri
 ve back to Stratford Parkway for a 4.15pm collection time.
 
 Price incl
 udes museum entrance fee\, planetarium show and return train ticket.
 Ple
 ase dress for the weather and bring a packed lunch (or money to purchase l
 unch from the museum cafe). &nbsp\;We probably will not have time to visit
  the gift shop.
 Don't forget your refillable water bottle!
LOCATION:Millennium Point\, Curzon St\, Birmingham B4 7XG
DTSTART:20250803T091500Z
DTEND:20250803T151500Z
DTSTAMP:20240425T134136Z
ORGANIZER;CN=ILEAP Charity:MAILTO:sparkle@ileap.co.uk
GEO:52.482459;-1.886685
X-APPLE-STRUCTURED-LOCATION;VALUE=URI;X-ADDRESS=Millennium Point\, Curzon S
 t\, Birmingham B4 7XG;X-APPLE-RADIUS=72;X-TITLE=Think Tank:52.482459;-1.88
 6685
END:VEVENT
END:VCALENDAR