BEGIN:VCALENDAR
VERSION:2.0
PRODID:Events Booking
BEGIN:VEVENT
UID:69ed374822034
SUMMARY:Sunday Funday\; Joseph & Technicoloured Dreamcoat at Birmingham Hip
 podrome
DESCRIPTION:Sunday Daytrips are Back!
 All aboard the ILEAP express for a 
 good old-fashioned day out with friends! &nbsp\;Any dream will do\, book y
 our dream ticket with ILEAP today!!
 Join Charlie and Vanessa for the fin
 al show of Andrew Lloyd Webber's award winning musical\, Joseph and his Am
 azing Techinicolour Dreamcoat at Birmingham Hippadrome. &nbsp\;One of the 
 world's most beloved family musicals with an all star cast!
 A short walk
  from Moore Street Station takes us to The Hippodrome. &nbsp\;
 
 We wil
 l meet at Stratford Parkway at 11.15am for the 11.30am departure.
 We wil
 l arrive back to Stratford Parkway for a 5.15pm collection time.
 
 Pric
 e includes a theatre ticket (stalls) and return train ticket. &nbsp\;One o
 f our reserved seats is a trasfer seat\, suitable for manual wheelchair us
 ers who can transfer.
 Please dress for the weather and bring a packed lu
 nch to enjoy on the train. &nbsp\;If you wish to purchase refreshments fro
 m the theatre\, or souvineers\, please bring money for these.
 Don't forg
 et your refillable water bottle!
LOCATION:Hurst St\, Birmingham B5\, UK
DTSTART:20250601T090000Z
DTEND:20250601T151500Z
DTSTAMP:20240425T132021Z
ORGANIZER;CN=ILEAP Charity:MAILTO:sparkle@ileap.co.uk
GEO:52.473502;-1.896032
X-APPLE-STRUCTURED-LOCATION;VALUE=URI;X-ADDRESS=Hurst St\, Birmingham B5\, 
 UK;X-APPLE-RADIUS=72;X-TITLE=Birmingham Hippodrome:52.473502;-1.896032
END:VEVENT
END:VCALENDAR