BEGIN:VCALENDAR
VERSION:2.0
PRODID:Events Booking
BEGIN:VEVENT
UID:69e97f6d171be
SUMMARY:Swimming and cafe visit<br>8+ yrs 
DESCRIPTION:A lovely relaxing swim session with ILEAP Friends old and new.
 
 Includes Swim\, bring money for&nbsp\;an optional jacket potato lunch.

  Why not book the afternoon session and spend the whole day with your ILEA
 P Friends.
 &nbsp\;
LOCATION:Bridge Foot\, Stratford-upon-Avon CV37 6yx\, UK
DTSTART:20190801T100000Z
DTEND:20190801T121500Z
DTSTAMP:20260423T030949Z
ORGANIZER;CN=ILEAP Charity:MAILTO:sparkle@ileap.co.uk
GEO:52.194668;-1.700264
X-APPLE-STRUCTURED-LOCATION;VALUE=URI;X-ADDRESS=Bridge Foot\, Stratford-upo
 n-Avon CV37 6yx\, UK;X-APPLE-RADIUS=72;X-TITLE=Stratford Leisure Centre:52
 .194668;-1.700264
END:VEVENT
END:VCALENDAR