BEGIN:VCALENDAR
VERSION:2.0
PRODID:Events Booking
BEGIN:VEVENT
UID:69e9564db7c12
SUMMARY:Swimming and cafe visit<br>8+ yr
DESCRIPTION:Includes Swim
LOCATION:Bridge Foot\, Stratford-upon-Avon CV37 6yx\, UK
DTSTART:20190530T100000Z
DTEND:20190530T121500Z
DTSTAMP:20260423T001421Z
ORGANIZER;CN=ILEAP Charity:MAILTO:sparkle@ileap.co.uk
GEO:52.194668;-1.700264
X-APPLE-STRUCTURED-LOCATION;VALUE=URI;X-ADDRESS=Bridge Foot\, Stratford-upo
 n-Avon CV37 6yx\, UK;X-APPLE-RADIUS=72;X-TITLE=Stratford Leisure Centre:52
 .194668;-1.700264
END:VEVENT
END:VCALENDAR