BEGIN:VCALENDAR
VERSION:2.0
PRODID:Events Booking
BEGIN:VEVENT
UID:69ec9cd42147f
SUMMARY:The Boy in the Dress
DESCRIPTION:
LOCATION:Waterside\, Stratford-upon-Avon\, Warwickshire\, CV37 6BB
DTSTART:20200305T183000Z
DTEND:20200305T213000Z
DTSTAMP:20260425T115204Z
ORGANIZER;CN=ILEAP Charity:MAILTO:sparkle@ileap.co.uk
GEO:52.19042;-1.704381
X-APPLE-STRUCTURED-LOCATION;VALUE=URI;X-ADDRESS=Waterside\, Stratford-upon-
 Avon\, Warwickshire\, CV37 6BB;X-APPLE-RADIUS=72;X-TITLE=The Royal Shakesp
 eare Theatre:52.19042;-1.704381
END:VEVENT
END:VCALENDAR