BEGIN:VCALENDAR
VERSION:2.0
PRODID:Events Booking
BEGIN:VEVENT
UID:69e8ed1f9beb8
SUMMARY:ILEAP and SpOt Drama Club present... <br>The Nightmare Before Chris
 tmas<br>
DESCRIPTION:
LOCATION:Alcester Road Stratford-upon-Avon\, CV37 9QR
DTSTART:20181220T190000Z
DTEND:20181220T210000Z
DTSTAMP:20260422T164535Z
ORGANIZER;CN=ILEAP Charity:MAILTO:sparkle@ileap.co.uk
GEO:52.19361;-1.718824
X-APPLE-STRUCTURED-LOCATION;VALUE=URI;X-ADDRESS=Alcester Road Stratford-upo
 n-Avon\, CV37 9QR;X-APPLE-RADIUS=72;X-TITLE=Stratford-Upon-Avon College:52
 .19361;-1.718824
END:VEVENT
END:VCALENDAR