BEGIN:VCALENDAR
VERSION:2.0
PRODID:Events Booking
BEGIN:VEVENT
UID:69ec9df6cacbd
SUMMARY:This is Me ILEAP Pamper Club\, Autumn Term 2025: 16 years and over:
  12pm -3pm  
DESCRIPTION:Pamper Club is back and it's better than ever.
 This small gro
 up with just 10 places is sure to be a hit.
 Music\, Dance and Pampering 
 a great way to spend a Saturday afternoon
 &nbsp\;
LOCATION:Abbey End Car Park\, Abbey End\, Kenilworth CV8 1JP
DTSTART:20251101T120000Z
DTEND:20251101T150000Z
DTSTAMP:20260425T115654Z
ORGANIZER;CN=ILEAP Charity:MAILTO:sparkle@ileap.co.uk
GEO:52.344216;-1.578651
X-APPLE-STRUCTURED-LOCATION;VALUE=URI;X-ADDRESS=Abbey End Car Park\, Abbey 
 End\, Kenilworth CV8 1JP;X-APPLE-RADIUS=72;X-TITLE=The Kenilworth Centre:5
 2.344216;-1.578651
END:VEVENT
END:VCALENDAR