BEGIN:VCALENDAR
VERSION:2.0
PRODID:Events Booking
BEGIN:VEVENT
UID:69ed4bdb7326d
SUMMARY:Thursday 1:1 with Rosie Zoom Stay Creative and Connected Session 11
 .30am -12.30pm
DESCRIPTION:
DTSTART:20200917T103000Z
DTEND:20200917T113000Z
DTSTAMP:20260426T001851Z
ORGANIZER;CN=ILEAP Charity:MAILTO:sparkle@ileap.co.uk
END:VEVENT
END:VCALENDAR