BEGIN:VCALENDAR
VERSION:2.0
PRODID:Events Booking
BEGIN:VEVENT
UID:69ed0252daffa
SUMMARY:Trustee Meeting
DESCRIPTION:
DTSTART:20250728T173000Z
DTEND:20250728T200000Z
DTSTAMP:20241223T114755Z
ORGANIZER;CN=ILEAP Charity:MAILTO:sparkle@ileap.co.uk
END:VEVENT
END:VCALENDAR