BEGIN:VCALENDAR
VERSION:2.0
PRODID:Events Booking
BEGIN:VEVENT
UID:69ed4bdaabd86
SUMMARY:Tuesday 1:1 with Rosie Zoom Stay Creative and Connected Session 11.
 30am -12.30pm
DESCRIPTION:
DTSTART:20200915T103000Z
DTEND:20200915T113000Z
DTSTAMP:20260426T001850Z
ORGANIZER;CN=ILEAP Charity:MAILTO:sparkle@ileap.co.uk
END:VEVENT
END:VCALENDAR