BEGIN:VCALENDAR
VERSION:2.0
PRODID:Events Booking
BEGIN:VEVENT
UID:69e9922c41ca4
SUMMARY:Dragon Slayer\, 14 years and over 
DESCRIPTION:Don’t miss the Summer’s must-see show return with even more
  projection!
 Experience a full evening of spectacular entertainment comb
 ining fearless fire jousting\, perilous stunt riding and epic battles with
  a breath-taking light projection show finale complete with live actors\, 
 pyrotechnics\, fireworks and more.
 Dress for the weather\,&nbsp\;
 Brin
 g a packed lunch and a drink and some money for the cafe and gift shop.
LOCATION:Warwick\, CV34 4QU
DTSTART:20190823T183000Z
DTEND:20190823T210000Z
DTSTAMP:20260423T042948Z
ORGANIZER;CN=ILEAP Charity:MAILTO:sparkle@ileap.co.uk
GEO:52.279915;-1.585475
X-APPLE-STRUCTURED-LOCATION;VALUE=URI;X-ADDRESS=Warwick\, CV34 4QU;X-APPLE-
 RADIUS=72;X-TITLE=Warwick Castle:52.279915;-1.585475
END:VEVENT
END:VCALENDAR