BEGIN:VCALENDAR
VERSION:2.0
PRODID:Events Booking
BEGIN:VEVENT
UID:69e9c2d70db51
SUMMARY:Warwick Castle Halloween Experience\, 12 years and over
DESCRIPTION:
LOCATION:Warwick\, CV34 4QU
DTSTART:20191027T100000Z
DTEND:20191027T160000Z
DTSTAMP:20260423T075727Z
ORGANIZER;CN=ILEAP Charity:MAILTO:sparkle@ileap.co.uk
GEO:52.279915;-1.585475
X-APPLE-STRUCTURED-LOCATION;VALUE=URI;X-ADDRESS=Warwick\, CV34 4QU;X-APPLE-
 RADIUS=72;X-TITLE=Warwick Castle:52.279915;-1.585475
END:VEVENT
END:VCALENDAR