BEGIN:VCALENDAR
VERSION:2.0
PRODID:Events Booking
BEGIN:VEVENT
UID:69e8b04046f60
SUMMARY:ILEAP SUNDAY  DAY TRIPPER<br>West Midlands Safari Park<br>8+ yrs
DESCRIPTION:Minibus will depart from Stratford or Leamington
LOCATION:Spring Grove\, Bewdley DY12 1LF\, UK
DTSTART:20181007T080000Z
DTEND:20181007T160000Z
DTSTAMP:20260422T122552Z
ORGANIZER;CN=ILEAP Charity:MAILTO:sparkle@ileap.co.uk
GEO:52.378579;-2.291406
X-APPLE-STRUCTURED-LOCATION;VALUE=URI;X-ADDRESS=Spring Grove\, Bewdley DY12
  1LF\, UK;X-APPLE-RADIUS=72;X-TITLE=West Midland Safari Park:52.378579;-2.
 291406
END:VEVENT
END:VCALENDAR