BEGIN:VCALENDAR
VERSION:2.0
PRODID:Events Booking
BEGIN:VEVENT
UID:69e72f375fa25
SUMMARY:ILEAP SUNDAY  DAY TRIPPER<br>West Midlands Safari Park<br>8+ yrs
DESCRIPTION:Minibus will depart from Stratford or Leamington
DTSTART:20180701T080000Z
DTEND:20180701T160000Z
DTSTAMP:20260421T090303Z
ORGANIZER;CN=ILEAP Charity:MAILTO:sparkle@ileap.co.uk
END:VEVENT
END:VCALENDAR