BEGIN:VCALENDAR
VERSION:2.0
PRODID:Events Booking
BEGIN:VEVENT
UID:69e61c8f4cc2d
SUMMARY:*ILEAP Aspire Drama Club:Tuesdays at The Sydni Centre: Summer Term:
  8 -18yrs: 18.30 -19.45pm
DESCRIPTION:Join the Tessa\, Jordan and Louise for this fantastic Drama ses
 sion at this brilliant venue for ILEAP Members aged 8 - 18 years
 It will
  be the highlight of your week and will bring you on in ILEAPS and Bounds!
 
 This is a free session run in partnership with Act for Autism. You must
  be an ILEAP member and you must book on. That way we will hopefully be ab
 le to continue to offer this session in the future.
 &nbsp\;
 You are bo
 oking for the Summer term 2026
LOCATION:Cottage Square\, Leamington Spa CV31 1PT\, UK
DTSTART:20260428T173000Z
DTEND:20260428T184500Z
DTSTAMP:20250911T105036Z
ORGANIZER;CN=ILEAP Charity:MAILTO:sparkle@ileap.co.uk
GEO:52.281336;-1.514425
X-APPLE-STRUCTURED-LOCATION;VALUE=URI;X-ADDRESS=Cottage Square\, Leamington
  Spa CV31 1PT\, UK;X-APPLE-RADIUS=72;X-TITLE=The Sydni Centre:52.281336;-1
 .514425
END:VEVENT
END:VCALENDAR