BEGIN:VCALENDAR
VERSION:2.0
PRODID:Events Booking
BEGIN:VEVENT
UID:69e88a193ddb0
SUMMARY:*Friday Afternoon Ten Pin Bowling: Easter Holiday 2026: 16 yrs and 
 over
DESCRIPTION:you are booking for the Easter Holiday Session 2026
 &nbsp\;Be
 st Day of the Week
 Enjoy 2 games of bowling and a meal!&nbsp\;
 Before 
 the session we will are dancing at the Kenilworth Centre before heading of
 f in a taxi to Ten Pin bowling ( Book seperately)&nbsp\;
 We are expectin
 g a full house so you'll need to book early
 Session runs every Friday th
 roughout the year&nbsp\;
 Remember you can donate and or fundraise for th
 e ILEAP Charity at www.justgiving.com/ileap&nbsp\;
 &nbsp\;&nbsp\;
 &nbs
 p\;
LOCATION:Royal Leamington Spa\, Warwick CV34 6RH\, UK
DTSTART:20260410T113000Z
DTEND:20260410T133000Z
DTSTAMP:20250909T095917Z
ORGANIZER;CN=ILEAP Charity:MAILTO:sparkle@ileap.co.uk
GEO:52.279158;-1.545272
X-APPLE-STRUCTURED-LOCATION;VALUE=URI;X-ADDRESS=Royal Leamington Spa\, Warw
 ick CV34 6RH\, UK;X-APPLE-RADIUS=72;X-TITLE=Ten Pin 10\, Megabowl:52.27915
 8;-1.545272
END:VEVENT
END:VCALENDAR