BEGIN:VCALENDAR
VERSION:2.0
PRODID:Events Booking
BEGIN:VEVENT
UID:69e61e1f8523b
SUMMARY:*ILEAP Friday Afternoon Ten Pin Bowling: Summer Holiday 2026: 16 yr
 s and over
DESCRIPTION:you are booking for the Summer Holiday 2026
 &nbsp\;Best Day o
 f the Week
 Enjoy 2 games of bowling and a meal!&nbsp\;
 Before the sess
 ion we will are dancing at the Kenilworth Centre before heading off in a t
 axi to Ten Pin bowling ( Book seperately)&nbsp\;
 We are expecting a full
  house so you'll need to book early
 Session runs every Friday throughout
  the year&nbsp\;
 Remember you can donate and or fundraise for the ILEAP 
 Charity at www.justgiving.com/ileap&nbsp\;
 &nbsp\;&nbsp\;
 &nbsp\;
LOCATION:Royal Leamington Spa\, Warwick CV34 6RH\, UK
DTSTART:20260814T113000Z
DTEND:20260814T133000Z
DTSTAMP:20250910T151016Z
ORGANIZER;CN=ILEAP Charity:MAILTO:sparkle@ileap.co.uk
GEO:52.279158;-1.545272
X-APPLE-STRUCTURED-LOCATION;VALUE=URI;X-ADDRESS=Royal Leamington Spa\, Warw
 ick CV34 6RH\, UK;X-APPLE-RADIUS=72;X-TITLE=Ten Pin 10\, Megabowl:52.27915
 8;-1.545272
END:VEVENT
END:VCALENDAR