BEGIN:VCALENDAR
VERSION:2.0
PRODID:Events Booking
BEGIN:VEVENT
UID:69e88ba84e8aa
SUMMARY:ILEAP Tuesday Night Meal at the Coach House in Stratford for member
 s 16 yrs & over : Summer Term 
DESCRIPTION:Enjoy a meal with friends in a great country pub which&nbsp\;se
 rves all the pub classics and the puddings are delicious.&nbsp\;
 Bring 
 £ for your meal and drinks.&nbsp\;
 This is a social group of ILEAP frie
 nds who love a night out together\, so join them for a great evening in a 
 safe and welcoming venue.
LOCATION:42 Rother St\, Stratford-upon-Avon CV37 6LP\, UK
DTSTART:20260428T173000Z
DTEND:20260428T200000Z
DTSTAMP:20250912T080443Z
ORGANIZER;CN=ILEAP Charity:MAILTO:sparkle@ileap.co.uk
GEO:52.192154;-1.710097
X-APPLE-STRUCTURED-LOCATION;VALUE=URI;X-ADDRESS=42 Rother St\, Stratford-up
 on-Avon CV37 6LP\, UK;X-APPLE-RADIUS=72;X-TITLE=The Coach House\, Stratfor
 d-upon-Avon:52.192154;-1.710097
END:VEVENT
END:VCALENDAR