BEGIN:VCALENDAR
VERSION:2.0
PRODID:Events Booking
BEGIN:VEVENT
UID:69e88bd005709
SUMMARY:*ILEAP Wednesday Night Meal at The Green Man in Kenilworth for memb
 ers 16 yrs & over: Summer Term
DESCRIPTION:Enjoy a scruptuous meal with your ILEAP friends in this great p
 ub. &nbsp\;They serve all the pub classics and the puddings are delicious.
 &nbsp\;
 Bring £ for your meal and drinks.&nbsp\;
 This is a social gro
 up of ILEAP friends who love a night out together\, so join them for a gre
 at evening in a safe and welcoming venue.
 A pre order may be requested p
 rior to the event depending on the time of year.
 Please note&nbsp\;that 
 parents / carers dropping off will need to enter their car registration on
 to the tablet console at the bar in the pub. &nbsp\;The car park at The Gr
 een Man has ANPR and unless you enter it inside the pub\, you are likely t
 o get a parking fine.
LOCATION:168 Warwick Road\, Kenilworth\, CV81HS
DTSTART:20260715T173000Z
DTEND:20260715T200000Z
DTSTAMP:20250912T101026Z
ORGANIZER;CN=ILEAP Charity:MAILTO:sparkle@ileap.co.uk
GEO:52.337577;-1.57409
X-APPLE-STRUCTURED-LOCATION;VALUE=URI;X-ADDRESS=168 Warwick Road\, Kenilwor
 th\, CV81HS;X-APPLE-RADIUS=72;X-TITLE=The Green Man Kenilworth:52.337577;-
 1.57409
END:VEVENT
END:VCALENDAR